BEGIN:VCALENDAR
VERSION:2.0
PRODID:-//Escuela de Lenguaje Arco Iris - ECPv4.6.23//NONSGML v1.0//EN
CALSCALE:GREGORIAN
METHOD:PUBLISH
X-WR-CALNAME:Escuela de Lenguaje Arco Iris
X-ORIGINAL-URL:https://www.lenguajearcoiris.cl
X-WR-CALDESC:Events for Escuela de Lenguaje Arco Iris
BEGIN:VEVENT
DTSTART;TZID=UTC+0:20180717T090000
DTEND;TZID=UTC+0:20180717T150000
DTSTAMP:20260420T185231
CREATED:20161217T135342Z
LAST-MODIFIED:20171121T102741Z
UID:296-1531818000-1531839600@www.lenguajearcoiris.cl
SUMMARY:Indoor activities
DESCRIPTION:consectetur adipisicing elit\, sed do eiusmod tempor. Porem ipsum dolor sit amet consectetur adipisicing elit sed do eiusmod tempor incididunt ut labore et dolore magna aliquat enim ad minim veniam sit amet consectetur adipisicing elit sed magna aliquat enim do eiusmod tempor. \nEu ligula qui pretium viverra ullamcorper nec morbi ipsum imperdiet magna viverra. Integer dictum tincidunt mattis volutpat non. Ac dictum rhoncus. Quis donec mollitia. Pharetra sem posuere. Suspendisse nulla et. Phasellus donec a ornare sit magna. Id a lobortis duis in nec sapien massa quam pellentesque ac lacus. Vestibulum proin nec. Scelerisque ut lacus mi orci fermentum lorem mi velit. \n\nTatemesa quiau voluptas sit aspernatur aut odit aut fugit be thought\nAccusanteum reqw dol vreme querirka laudantium create chemical changes.\nQuis autem vel eum iurea reprehenderit qui in eavoltu healthy diet.\n\nconsectetur adipisicing elit\, sed do eiusmod tempor. Porem ipsum dolor sit amet consectetur adipisicing elit sed do eiusmod tempor incididunt ut labore et dolore magna aliquat enim ad minim veniam sit amet consectetur adipisicing elit sed magna aliquat enim do eiusmod tempor. \n\nConsectetur adipisicing elit : \n\nTatemesa quiau voluptas sit aspernatur aut odit aut fugit be thought\nAccusanteum reqw dol vreme querirka laudantium create chemical changes.\nQuis autem vel eum iurea reprehenderit qui in eavoltu healthy diet.\nTatemesa quiau voluptas sit aspernatur aut odit aut fugit be thought\nAccusanteum reqw dol vreme querirka laudantium create chemical changes.\n\n
URL:https://www.lenguajearcoiris.cl/event/indoor-activities-2/
LOCATION:Kinder Gardens\, Building 2\, 88 Ricketts Rd\, Mt Waverley\, VIC\, 3149\, Australia
CATEGORIES:Development,Preschool
ATTACH;FMTTYPE=image/jpeg:https://www.lenguajearcoiris.cl/wp-content/uploads/2016/12/image-011.jpg
END:VEVENT
END:VCALENDAR