BEGIN:VCALENDAR
VERSION:2.0
PRODID:-//Escuela de Lenguaje Arco Iris - ECPv4.6.23//NONSGML v1.0//EN
CALSCALE:GREGORIAN
METHOD:PUBLISH
X-WR-CALNAME:Escuela de Lenguaje Arco Iris
X-ORIGINAL-URL:https://www.lenguajearcoiris.cl
X-WR-CALDESC:Events for Escuela de Lenguaje Arco Iris
BEGIN:VEVENT
DTSTART;TZID=UTC+0:20180614T130000
DTEND;TZID=UTC+0:20180614T190000
DTSTAMP:20260420T171046
CREATED:20161217T134920Z
LAST-MODIFIED:20171121T102837Z
UID:287-1528981200-1529002800@www.lenguajearcoiris.cl
SUMMARY:Activities Improves Mind
DESCRIPTION:consectetur adipisicing elit\, sed do eiusmod tempor. Porem ipsum dolor sit amet consectetur adipisicing elit sed do eiusmod tempor incididunt ut labore et dolore magna aliquat enim ad minim veniam sit amet consectetur adipisicing elit sed magna aliquat enim do eiusmod tempor. \nEu ligula qui pretium viverra ullamcorper nec morbi ipsum imperdiet magna viverra. Integer dictum tincidunt mattis volutpat non. Ac dictum rhoncus. Quis donec mollitia. Pharetra sem posuere. Suspendisse nulla et. Phasellus donec a ornare sit magna. Id a lobortis duis in nec sapien massa quam pellentesque ac lacus. Vestibulum proin nec. Scelerisque ut lacus mi orci fermentum lorem mi velit. \n\nTatemesa quiau voluptas sit aspernatur aut odit aut fugit be thought\nAccusanteum reqw dol vreme querirka laudantium create chemical changes.\nQuis autem vel eum iurea reprehenderit qui in eavoltu healthy diet.\n\n
URL:https://www.lenguajearcoiris.cl/event/activities-improves-mind/
LOCATION:Kinder Gardens\, Building 2\, 88 Ricketts Rd\, Mt Waverley\, VIC\, 3149\, Australia
CATEGORIES:Education,Preschool
ATTACH;FMTTYPE=image/jpeg:https://www.lenguajearcoiris.cl/wp-content/uploads/2016/12/image-002.jpg
END:VEVENT
END:VCALENDAR